BEGIN:VCALENDAR
VERSION:2.0
PRODID:https://github.com/derhansen/sf_event_mgt
METHOD:PUBLISH
BEGIN:VEVENT
UID:799-9@www.ssapm.ch
CLASS: PUBLIC
SUMMARY:XC. CIS-Alpinum Fortbildung
DESCRIPTION:
LOCATION:Zürich
DTSTAMP:20250618T085427Z
DTSTART:20250702T060000Z
DTEND:20250702T160000Z
END:VEVENT
END:VCALENDAR
