BEGIN:VCALENDAR
VERSION:2.0
PRODID:https://github.com/derhansen/sf_event_mgt
METHOD:PUBLISH
BEGIN:VEVENT
UID:696-9@www.ssapm.ch
CLASS: PUBLIC
SUMMARY:Wissenschaftliches Update Rheumatologie - What is new?
DESCRIPTION:Webseite
LOCATION:Online
DTSTAMP:20250103T120008Z
DTSTART:20250712T065800Z
DTEND:20250712T165800Z
END:VEVENT
END:VCALENDAR
