BEGIN:VCALENDAR
VERSION:2.0
PRODID:https://github.com/derhansen/sf_event_mgt
METHOD:PUBLISH
BEGIN:VEVENT
UID:502-9@www.ssapm.ch
CLASS: PUBLIC
SUMMARY:WCA 2024 - 18th World Congress of Anaesthesiologists
DESCRIPTION:Website
LOCATION:Singapore
DTSTAMP:20231212T153031Z
DTSTART:20240303T152700Z
DTEND:20240307T162700Z
END:VEVENT
END:VCALENDAR
