BEGIN:VCALENDAR
VERSION:2.0
PRODID:https://github.com/derhansen/sf_event_mgt
METHOD:PUBLISH
BEGIN:VEVENT
UID:456-9@www.ssapm.ch
CLASS: PUBLIC
SUMMARY:The 9th Regional Day of Western Switzerland
DESCRIPTION:Webseite
LOCATION:Lausanne
DTSTAMP:20231116T125955Z
DTSTART:20241005T060000Z
DTEND:20241005T165700Z
END:VEVENT
END:VCALENDAR
