BEGIN:VCALENDAR
VERSION:2.0
PRODID:https://github.com/derhansen/sf_event_mgt
METHOD:PUBLISH
BEGIN:VEVENT
UID:452-9@www.ssapm.ch
CLASS: PUBLIC
SUMMARY:Symposium Perioperative Medicine - New horizons in the perioperativ
 e management of cancer patients
DESCRIPTION:
LOCATION:Bern
DTSTAMP:20240117T092936Z
DTSTART:20240503T060700Z
DTEND:20240503T160000Z
END:VEVENT
END:VCALENDAR
