BEGIN:VCALENDAR
VERSION:2.0
PRODID:https://github.com/derhansen/sf_event_mgt
METHOD:PUBLISH
BEGIN:VEVENT
UID:546-9@www.ssapm.ch
CLASS: PUBLIC
SUMMARY:Spital Grabs: 63. Fortbildungsveranstaltung
DESCRIPTION:
LOCATION:Grabs
DTSTAMP:20240206T094543Z
DTSTART:20241128T070000Z
DTEND:20241128T170000Z
END:VEVENT
END:VCALENDAR
