BEGIN:VCALENDAR
VERSION:2.0
PRODID:https://github.com/derhansen/sf_event_mgt
METHOD:PUBLISH
BEGIN:VEVENT
UID:779-9@www.ssapm.ch
CLASS: PUBLIC
SUMMARY:SGI Jahrestagung 2025 | Réunion annuelle 2025 de la SSMI
DESCRIPTION:Programm und Anmeldung
LOCATION:Interlaken
DTSTAMP:20250613T150138Z
DTSTART:20250917T060000Z
DTEND:20250919T160000Z
END:VEVENT
END:VCALENDAR
