BEGIN:VCALENDAR
VERSION:2.0
PRODID:https://github.com/derhansen/sf_event_mgt
METHOD:PUBLISH
BEGIN:VEVENT
UID:783-9@www.ssapm.ch
CLASS: PUBLIC
SUMMARY:Schmerzmedizin im Fokus
DESCRIPTION:Programm und Anmeldung
LOCATION:Zürich
DTSTAMP:20250613T152045Z
DTSTART:20250619T060000Z
DTEND:20250619T160000Z
END:VEVENT
END:VCALENDAR
