BEGIN:VCALENDAR
VERSION:2.0
PRODID:https://github.com/derhansen/sf_event_mgt
METHOD:PUBLISH
BEGIN:VEVENT
UID:560-9@www.ssapm.ch
CLASS: PUBLIC
SUMMARY:Réunion Romande de Réanimation (27.11.2025)
DESCRIPTION:Anmeldung
LOCATION:Hybrid
DTSTAMP:20250327T102307Z
DTSTART:20251127T070000Z
DTEND:20251127T170000Z
END:VEVENT
END:VCALENDAR
