BEGIN:VCALENDAR
VERSION:2.0
PRODID:https://github.com/derhansen/sf_event_mgt
METHOD:PUBLISH
BEGIN:VEVENT
UID:835-9@www.ssapm.ch
CLASS: PUBLIC
SUMMARY:POCUS Basis Kurs Fachkomponenten 5 und 10
DESCRIPTION:Programm und Anmeldung
LOCATION:Zürich
DTSTAMP:20251022T072140Z
DTSTART:20251122T070000Z
DTEND:20251122T172000Z
END:VEVENT
END:VCALENDAR
