BEGIN:VCALENDAR
VERSION:2.0
PRODID:https://github.com/derhansen/sf_event_mgt
METHOD:PUBLISH
BEGIN:VEVENT
UID:611-9@www.ssapm.ch
CLASS: PUBLIC
SUMMARY:POCUS: 4. Luzerner Workshop in ultraschallgesteuerter Regionalanäst
 hesie und Gefässpunktion
DESCRIPTION:
LOCATION:Luzern
DTSTAMP:20240708T092043Z
DTSTART:20240921T060000Z
DTEND:20240921T161800Z
END:VEVENT
END:VCALENDAR
