BEGIN:VCALENDAR
VERSION:2.0
PRODID:https://github.com/derhansen/sf_event_mgt
METHOD:PUBLISH
BEGIN:VEVENT
UID:795-9@www.ssapm.ch
CLASS: PUBLIC
SUMMARY:Perioperative Gerinnung und Patient Blood Management 2025
DESCRIPTION:Programm und Anmeldung
LOCATION:Zürich
DTSTAMP:20250618T084455Z
DTSTART:20251031T070000Z
DTEND:20251101T174200Z
END:VEVENT
END:VCALENDAR
