BEGIN:VCALENDAR
VERSION:2.0
PRODID:https://github.com/derhansen/sf_event_mgt
METHOD:PUBLISH
BEGIN:VEVENT
UID:607-9@www.ssapm.ch
CLASS: PUBLIC
SUMMARY:Perfezionamento e aggiornamento in Medicina intensiva 28.11.2024
DESCRIPTION:Website Anmeldung: arianna.balducci@eoc.ch
LOCATION:Lugano
DTSTAMP:20240708T085851Z
DTSTART:20241128T070000Z
DTEND:20241128T175500Z
END:VEVENT
END:VCALENDAR
