BEGIN:VCALENDAR
VERSION:2.0
PRODID:https://github.com/derhansen/sf_event_mgt
METHOD:PUBLISH
BEGIN:VEVENT
UID:605-9@www.ssapm.ch
CLASS: PUBLIC
SUMMARY:Perfezionamento e aggiornamento in Medicina intensiva 26.09.2024
DESCRIPTION:Website Anmeldung: arianna.balducci@eoc.ch
LOCATION:Lugano
DTSTAMP:20240708T085443Z
DTSTART:20240926T060000Z
DTEND:20240926T175200Z
END:VEVENT
END:VCALENDAR
