BEGIN:VCALENDAR
VERSION:2.0
PRODID:https://github.com/derhansen/sf_event_mgt
METHOD:PUBLISH
BEGIN:VEVENT
UID:691-9@www.ssapm.ch
CLASS: PUBLIC
SUMMARY:Nerve and Muscle Ultrasound Teaching Course 2025
DESCRIPTION:
DTSTAMP:20241122T155631Z
DTSTART:20250131T070000Z
DTEND:20250201T170000Z
END:VEVENT
END:VCALENDAR
