BEGIN:VCALENDAR
VERSION:2.0
PRODID:https://github.com/derhansen/sf_event_mgt
METHOD:PUBLISH
BEGIN:VEVENT
UID:500-9@www.ssapm.ch
CLASS: PUBLIC
SUMMARY:Nerve and Muscle Ultrasound Teaching Course 2024
DESCRIPTION:Webseite und Anmeldung
LOCATION:Hybrid
DTSTAMP:20231209T135016Z
DTSTART:20240308T070000Z
DTEND:20240309T170000Z
END:VEVENT
END:VCALENDAR
