BEGIN:VCALENDAR
VERSION:2.0
PRODID:https://github.com/derhansen/sf_event_mgt
METHOD:PUBLISH
BEGIN:VEVENT
UID:701-9@www.ssapm.ch
CLASS: PUBLIC
SUMMARY:Nach Trauma auf der Intensivstation - und jetzt?
DESCRIPTION:Webseite
LOCATION:Gränichen AG
DTSTAMP:20250218T092658Z
DTSTART:20250513T062400Z
DTEND:20250513T092400Z
END:VEVENT
END:VCALENDAR
