BEGIN:VCALENDAR
VERSION:2.0
PRODID:https://github.com/derhansen/sf_event_mgt
METHOD:PUBLISH
BEGIN:VEVENT
UID:625-9@www.ssapm.ch
CLASS: PUBLIC
SUMMARY:Let's discuss about pediatric regional anesthesia
DESCRIPTION:
LOCATION:Online
DTSTAMP:20240708T100143Z
DTSTART:20240911T060000Z
DTEND:20251125T170000Z
END:VEVENT
END:VCALENDAR
