BEGIN:VCALENDAR
VERSION:2.0
PRODID:https://github.com/derhansen/sf_event_mgt
METHOD:PUBLISH
BEGIN:VEVENT
UID:488-9@www.ssapm.ch
CLASS: PUBLIC
SUMMARY:KATZ24 - Kinderanästhesie Tag Zürich
DESCRIPTION:Webseite
LOCATION:Zürich
DTSTAMP:20231116T174247Z
DTSTART:20240316T070000Z
DTEND:20240316T170000Z
END:VEVENT
END:VCALENDAR
