BEGIN:VCALENDAR
VERSION:2.0
PRODID:https://github.com/derhansen/sf_event_mgt
METHOD:PUBLISH
BEGIN:VEVENT
UID:317-9@www.ssapm.ch
CLASS: PUBLIC
SUMMARY:Journée d'instruction axée sur l'engagement (patrouille des glacier
 s)
DESCRIPTION:Webseite
LOCATION:Sion
DTSTAMP:20230718T065023Z
DTSTART:20240202T070000Z
DTEND:20240202T180000Z
END:VEVENT
END:VCALENDAR
