BEGIN:VCALENDAR
VERSION:2.0
PRODID:https://github.com/derhansen/sf_event_mgt
METHOD:PUBLISH
BEGIN:VEVENT
UID:518-9@www.ssapm.ch
CLASS: PUBLIC
SUMMARY:Haemostasis in Critical Care, Gerinnung in der perioperativen Praxi
 s
DESCRIPTION:Webseite und Anmeldung
LOCATION:St. Gallen
DTSTAMP:20240205T130424Z
DTSTART:20240426T060000Z
DTEND:20240427T160000Z
END:VEVENT
END:VCALENDAR
