BEGIN:VCALENDAR
VERSION:2.0
PRODID:https://github.com/derhansen/sf_event_mgt
METHOD:PUBLISH
BEGIN:VEVENT
UID:837-9@www.ssapm.ch
CLASS: PUBLIC
SUMMARY:Grundkurs Anästhesiologie
DESCRIPTION:Programm und Anmeldung
LOCATION:Bern
DTSTAMP:20251022T072905Z
DTSTART:20251031T070000Z
DTEND:20251102T170000Z
END:VEVENT
END:VCALENDAR
