BEGIN:VCALENDAR
VERSION:2.0
PRODID:https://github.com/derhansen/sf_event_mgt
METHOD:PUBLISH
BEGIN:VEVENT
UID:644-9@www.ssapm.ch
CLASS: PUBLIC
SUMMARY:Fortbildung KSB: Dr. Pascal Köpfli, « Herzschrittmacher und ICD»
DESCRIPTION:
LOCATION:Baden
DTSTAMP:20240708T111031Z
DTSTART:20240926T060900Z
DTEND:20240926T180900Z
END:VEVENT
END:VCALENDAR
