BEGIN:VCALENDAR
VERSION:2.0
PRODID:https://github.com/derhansen/sf_event_mgt
METHOD:PUBLISH
BEGIN:VEVENT
UID:809-9@www.ssapm.ch
CLASS: PUBLIC
SUMMARY:Fortbildung KSB: Ambulante Anästhesie
DESCRIPTION:
LOCATION:Baden
DTSTAMP:20250618T092750Z
DTSTART:20250814T141400Z
DTEND:20250814T160000Z
END:VEVENT
END:VCALENDAR
