BEGIN:VCALENDAR
VERSION:2.0
PRODID:https://github.com/derhansen/sf_event_mgt
METHOD:PUBLISH
BEGIN:VEVENT
UID:599-9@www.ssapm.ch
CLASS: PUBLIC
SUMMARY:EKG Update Refresher Aufbaukurs
DESCRIPTION:Programm und Anmeldung
LOCATION:Hybrid
DTSTAMP:20240708T082113Z
DTSTART:20241028T070000Z
DTEND:20241029T171900Z
END:VEVENT
END:VCALENDAR
