BEGIN:VCALENDAR
VERSION:2.0
PRODID:https://github.com/derhansen/sf_event_mgt
METHOD:PUBLISH
BEGIN:VEVENT
UID:630-9@www.ssapm.ch
CLASS: PUBLIC
SUMMARY:e. medAcademy Kurs in ultraschallgestützter periphere Nervenblockad
 en und Gefässpunktionen
DESCRIPTION:
LOCATION:Basel
DTSTAMP:20240708T105936Z
DTSTART:20240907T060000Z
DTEND:20240908T165800Z
END:VEVENT
END:VCALENDAR
