BEGIN:VCALENDAR
VERSION:2.0
PRODID:https://github.com/derhansen/sf_event_mgt
METHOD:PUBLISH
BEGIN:VEVENT
UID:444-9@www.ssapm.ch
CLASS: PUBLIC
SUMMARY:Congrès International de Médecine de Montagne
DESCRIPTION:Programm folgt!
LOCATION:Le Châble-Verbier
DTSTAMP:20231013T140858Z
DTSTART:20240118T070000Z
DTEND:20240120T170000Z
END:VEVENT
END:VCALENDAR
