BEGIN:VCALENDAR
VERSION:2.0
PRODID:https://github.com/derhansen/sf_event_mgt
METHOD:PUBLISH
BEGIN:VEVENT
UID:775-9@www.ssapm.ch
CLASS: PUBLIC
SUMMARY:Basiskurs Sommer Gebirgsmedizin SGGM
DESCRIPTION:Programm und Anmeldung
LOCATION:Steingletscher
DTSTAMP:20250613T144108Z
DTSTART:20250913T060000Z
DTEND:20250919T163800Z
END:VEVENT
END:VCALENDAR
