BEGIN:VCALENDAR
VERSION:2.0
PRODID:https://github.com/derhansen/sf_event_mgt
METHOD:PUBLISH
BEGIN:VEVENT
UID:700-9@www.ssapm.ch
CLASS: PUBLIC
SUMMARY:Atemwegsmanagementtage Mittelland
DESCRIPTION:
LOCATION:Aarau
DTSTAMP:20250117T125500Z
DTSTART:20250516T115200Z
DTEND:20250517T125200Z
END:VEVENT
END:VCALENDAR
