BEGIN:VCALENDAR
VERSION:2.0
PRODID:https://github.com/derhansen/sf_event_mgt
METHOD:PUBLISH
BEGIN:VEVENT
UID:478-9@www.ssapm.ch
CLASS: PUBLIC
SUMMARY:Akut- und Intensivmedizinisches Symposium (KAIMS24) Kitzbühel
DESCRIPTION:Webseite und Anmeldung
LOCATION:Deutschland
DTSTAMP:20231116T170952Z
DTSTART:20240312T070000Z
DTEND:20240316T180800Z
END:VEVENT
END:VCALENDAR
