BEGIN:VCALENDAR
VERSION:2.0
PRODID:https://github.com/derhansen/sf_event_mgt
METHOD:PUBLISH
BEGIN:VEVENT
UID:745-9@www.ssapm.ch
CLASS: PUBLIC
SUMMARY:81. St.Galler Anästhesiesymposium
DESCRIPTION:Programm und Anmeldung
LOCATION:St. Gallen
DTSTAMP:20250506T110252Z
DTSTART:20250901T060000Z
DTEND:20250901T160100Z
END:VEVENT
END:VCALENDAR
