BEGIN:VCALENDAR
VERSION:2.0
PRODID:https://github.com/derhansen/sf_event_mgt
METHOD:PUBLISH
BEGIN:VEVENT
UID:676-9@www.ssapm.ch
CLASS: PUBLIC
SUMMARY:80-Stunden-Curriculum "Spezielle Schmerztherapie"
DESCRIPTION:Anmeldung und Programm
LOCATION:Diverse Orte
DTSTAMP:20241004T134336Z
DTSTART:20250125T070000Z
DTEND:20250201T174100Z
END:VEVENT
END:VCALENDAR
