BEGIN:VCALENDAR
VERSION:2.0
PRODID:https://github.com/derhansen/sf_event_mgt
METHOD:PUBLISH
BEGIN:VEVENT
UID:743-9@www.ssapm.ch
CLASS: PUBLIC
SUMMARY:80. St.Galler Anästhesiesymposium
DESCRIPTION:Programm und Anmeldung
LOCATION:St. Gallen
DTSTAMP:20250506T110031Z
DTSTART:20250602T060000Z
DTEND:20250602T160000Z
END:VEVENT
END:VCALENDAR
