BEGIN:VCALENDAR
VERSION:2.0
PRODID:https://github.com/derhansen/sf_event_mgt
METHOD:PUBLISH
BEGIN:VEVENT
UID:923-9@www.ssapm.ch
CLASS: PUBLIC
SUMMARY:8. INluks Kongress
DESCRIPTION:Programm und Anmeldung
LOCATION:Luzern
DTSTAMP:20260220T104526Z
DTSTART:20260616T064200Z
DTEND:20260616T164200Z
END:VEVENT
END:VCALENDAR
