BEGIN:VCALENDAR
VERSION:2.0
PRODID:https://github.com/derhansen/sf_event_mgt
METHOD:PUBLISH
BEGIN:VEVENT
UID:656-9@www.ssapm.ch
CLASS: PUBLIC
SUMMARY:6th Swiss Symposium on Refugee and Migrant Health
DESCRIPTION:
LOCATION:Bern
DTSTAMP:20240708T112819Z
DTSTART:20240919T060000Z
DTEND:20240919T160000Z
END:VEVENT
END:VCALENDAR
