BEGIN:VCALENDAR
VERSION:2.0
PRODID:https://github.com/derhansen/sf_event_mgt
METHOD:PUBLISH
BEGIN:VEVENT
UID:849-9@www.ssapm.ch
CLASS: PUBLIC
SUMMARY:49. Symposium präklinische und klini-sche Notfallmedizin
DESCRIPTION:Programm und Anmeldung
LOCATION:Zürich
DTSTAMP:20251022T080203Z
DTSTART:20251110T070000Z
DTEND:20251110T170000Z
END:VEVENT
END:VCALENDAR
