BEGIN:VCALENDAR
VERSION:2.0
PRODID:https://github.com/derhansen/sf_event_mgt
METHOD:PUBLISH
BEGIN:VEVENT
UID:861-9@www.ssapm.ch
CLASS: PUBLIC
SUMMARY:45. Internationales AINS-Symposium in St. Anton am Arlberg
DESCRIPTION:Programm und Anmeldung
LOCATION:Deutschland
DTSTAMP:20251024T154958Z
DTSTART:20260201T070000Z
DTEND:20260206T170000Z
END:VEVENT
END:VCALENDAR
