BEGIN:VCALENDAR
VERSION:2.0
PRODID:https://github.com/derhansen/sf_event_mgt
METHOD:PUBLISH
BEGIN:VEVENT
UID:751-9@www.ssapm.ch
CLASS: PUBLIC
SUMMARY:33e Journée sédunoise d’anesthésiologie
DESCRIPTION:
LOCATION:Sion
DTSTAMP:20250618T091357Z
DTSTART:20250903T061500Z
DTEND:20250903T160000Z
END:VEVENT
END:VCALENDAR
