BEGIN:VCALENDAR
VERSION:2.0
PRODID:https://github.com/derhansen/sf_event_mgt
METHOD:PUBLISH
BEGIN:VEVENT
UID:528-9@www.ssapm.ch
CLASS: PUBLIC
SUMMARY:32. St.Galler Anästhesie Repetitorium
DESCRIPTION:Webseite und Programm
LOCATION:St. Gallen
DTSTAMP:20240205T141942Z
DTSTART:20240504T060000Z
DTEND:20240511T160000Z
END:VEVENT
END:VCALENDAR
