BEGIN:VCALENDAR
VERSION:2.0
PRODID:https://github.com/derhansen/sf_event_mgt
METHOD:PUBLISH
BEGIN:VEVENT
UID:885-9@www.ssapm.ch
CLASS: PUBLIC
SUMMARY:31st International Winter Symposium in Intensive Care Medicine
DESCRIPTION:Programm und Anmeldung
LOCATION:Pontresina
DTSTAMP:20251114T150446Z
DTSTART:20260125T070000Z
DTEND:20260130T170000Z
END:VEVENT
END:VCALENDAR
