BEGIN:VCALENDAR
VERSION:2.0
PRODID:https://github.com/derhansen/sf_event_mgt
METHOD:PUBLISH
BEGIN:VEVENT
UID:719-9@www.ssapm.ch
CLASS: PUBLIC
SUMMARY:24. St.Galler Airway Management Symposium
DESCRIPTION:Website
LOCATION:St. Gallen
DTSTAMP:20250613T145121Z
DTSTART:20251114T070000Z
DTEND:20251115T170000Z
END:VEVENT
END:VCALENDAR
