BEGIN:VCALENDAR
VERSION:2.0
PRODID:https://github.com/derhansen/sf_event_mgt
METHOD:PUBLISH
BEGIN:VEVENT
UID:588-9@www.ssapm.ch
CLASS: PUBLIC
SUMMARY:2024 World Critical Care & Anesthesiology Conference
DESCRIPTION:Website
LOCATION:Japan
DTSTAMP:20240423T104822Z
DTSTART:20241018T060000Z
DTEND:20241019T164600Z
END:VEVENT
END:VCALENDAR
