BEGIN:VCALENDAR
VERSION:2.0
PRODID:https://github.com/derhansen/sf_event_mgt
METHOD:PUBLISH
BEGIN:VEVENT
UID:717-9@www.ssapm.ch
CLASS: PUBLIC
SUMMARY:188. Luzerner Anästhesieforum
DESCRIPTION:Webseite und Programm
DTSTAMP:20250320T114604Z
DTSTART:20250327T074500Z
DTEND:20250327T170000Z
END:VEVENT
END:VCALENDAR
