BEGIN:VCALENDAR
VERSION:2.0
PRODID:https://github.com/derhansen/sf_event_mgt
METHOD:PUBLISH
BEGIN:VEVENT
UID:255-9@www.ssapm.ch
CLASS: PUBLIC
SUMMARY:15th international Congress on Ambulatory Surgery
DESCRIPTION:Webseite IAAS\n\nWebseite NORDAF
LOCATION:Oslo
DTSTAMP:20230419T094945Z
DTSTART:20240512T054400Z
DTEND:20240515T164400Z
END:VEVENT
END:VCALENDAR
