BEGIN:VCALENDAR
VERSION:2.0
PRODID:https://github.com/derhansen/sf_event_mgt
METHOD:PUBLISH
BEGIN:VEVENT
UID:711-9@www.ssapm.ch
CLASS: PUBLIC
SUMMARY:13. Anästhesie Repetitorium
DESCRIPTION:Webseite\n\nAnmeldung
DTSTAMP:20250320T103547Z
DTSTART:20250330T060000Z
DTEND:20250404T160000Z
END:VEVENT
END:VCALENDAR
