BEGIN:VCALENDAR
VERSION:2.0
PRODID:https://github.com/derhansen/sf_event_mgt
METHOD:PUBLISH
BEGIN:VEVENT
UID:412-9@www.ssapm.ch
CLASS: PUBLIC
SUMMARY:12. Anästhesie-Repetitorium Alpbach in Tirol
DESCRIPTION:Webseite und Programm\n\nAnmeldung
LOCATION:Alpbach
DTSTAMP:20231013T132233Z
DTSTART:20240407T060000Z
DTEND:20240412T163000Z
END:VEVENT
END:VCALENDAR
