BEGIN:VCALENDAR
VERSION:2.0
PRODID:https://github.com/derhansen/sf_event_mgt
METHOD:PUBLISH
BEGIN:VEVENT
UID:582-9@www.ssapm.ch
CLASS: PUBLIC
SUMMARY:Congrès Suisse de Médecine d'Urgence
DESCRIPTION:Site web
LOCATION:Fribourg
DTSTAMP:20240409T144359Z
DTSTART:20240606T064100Z
DTEND:20240607T160000Z
END:VEVENT
END:VCALENDAR
