BEGIN:VCALENDAR
VERSION:2.0
PRODID:https://github.com/derhansen/sf_event_mgt
METHOD:PUBLISH
BEGIN:VEVENT
UID:556-9@www.ssapm.ch
CLASS: PUBLIC
SUMMARY:Réunion Romande de Réanimation (16.05.2024)
DESCRIPTION:
LOCATION:Lausanne
DTSTAMP:20240206T095928Z
DTSTART:20240516T060000Z
DTEND:20240516T160000Z
END:VEVENT
END:VCALENDAR
