BEGIN:VCALENDAR
VERSION:2.0
PRODID:https://github.com/derhansen/sf_event_mgt
METHOD:PUBLISH
BEGIN:VEVENT
UID:524-9@www.ssapm.ch
CLASS: PUBLIC
SUMMARY:lung and diaphragm ultrasound
DESCRIPTION:Site web
LOCATION:Sierre
DTSTAMP:20240205T132535Z
DTSTART:20240313T070000Z
DTEND:20240313T170000Z
END:VEVENT
END:VCALENDAR
