BEGIN:VCALENDAR
VERSION:2.0
PRODID:https://github.com/derhansen/sf_event_mgt
METHOD:PUBLISH
BEGIN:VEVENT
UID:921-9@www.ssapm.ch
CLASS: PUBLIC
SUMMARY:Haemostasis in Critical Care
DESCRIPTION:Programme et inscription
LOCATION:St. Gallen
DTSTAMP:20260220T103439Z
DTSTART:20260424T060000Z
DTEND:20260425T162600Z
END:VEVENT
END:VCALENDAR
